BEGIN:VCALENDAR
VERSION:2.0
PRODID:-//The Wind Camp - ECPv6.15.20//NONSGML v1.0//EN
CALSCALE:GREGORIAN
METHOD:PUBLISH
X-WR-CALNAME:The Wind Camp
X-ORIGINAL-URL:https://thewindcamp.com/?lang=en
X-WR-CALDESC:Events for The Wind Camp
REFRESH-INTERVAL;VALUE=DURATION:PT1H
X-Robots-Tag:noindex
X-PUBLISHED-TTL:PT1H
BEGIN:VTIMEZONE
TZID:Europe/Helsinki
BEGIN:DAYLIGHT
TZOFFSETFROM:+0200
TZOFFSETTO:+0300
TZNAME:EEST
DTSTART:20200329T010000
END:DAYLIGHT
BEGIN:STANDARD
TZOFFSETFROM:+0300
TZOFFSETTO:+0200
TZNAME:EET
DTSTART:20201025T010000
END:STANDARD
BEGIN:DAYLIGHT
TZOFFSETFROM:+0200
TZOFFSETTO:+0300
TZNAME:EEST
DTSTART:20210328T010000
END:DAYLIGHT
BEGIN:STANDARD
TZOFFSETFROM:+0300
TZOFFSETTO:+0200
TZNAME:EET
DTSTART:20211031T010000
END:STANDARD
BEGIN:DAYLIGHT
TZOFFSETFROM:+0200
TZOFFSETTO:+0300
TZNAME:EEST
DTSTART:20220327T010000
END:DAYLIGHT
BEGIN:STANDARD
TZOFFSETFROM:+0300
TZOFFSETTO:+0200
TZNAME:EET
DTSTART:20221030T010000
END:STANDARD
END:VTIMEZONE
BEGIN:VTIMEZONE
TZID:Europe/Paris
BEGIN:DAYLIGHT
TZOFFSETFROM:+0100
TZOFFSETTO:+0200
TZNAME:CEST
DTSTART:20200329T010000
END:DAYLIGHT
BEGIN:STANDARD
TZOFFSETFROM:+0200
TZOFFSETTO:+0100
TZNAME:CET
DTSTART:20201025T010000
END:STANDARD
BEGIN:DAYLIGHT
TZOFFSETFROM:+0100
TZOFFSETTO:+0200
TZNAME:CEST
DTSTART:20210328T010000
END:DAYLIGHT
BEGIN:STANDARD
TZOFFSETFROM:+0200
TZOFFSETTO:+0100
TZNAME:CET
DTSTART:20211031T010000
END:STANDARD
BEGIN:DAYLIGHT
TZOFFSETFROM:+0100
TZOFFSETTO:+0200
TZNAME:CEST
DTSTART:20220327T010000
END:DAYLIGHT
BEGIN:STANDARD
TZOFFSETFROM:+0200
TZOFFSETTO:+0100
TZNAME:CET
DTSTART:20221030T010000
END:STANDARD
END:VTIMEZONE
BEGIN:VEVENT
DTSTART;VALUE=DATE:20210821
DTEND;VALUE=DATE:20210829
DTSTAMP:20260419T171551
CREATED:20210627T060259Z
LAST-MODIFIED:20210627T060427Z
UID:206417-1629504000-1630195199@thewindcamp.com
SUMMARY:The Wind Camp Classic VIII
DESCRIPTION:Info & Bookings
URL:https://thewindcamp.com/event/the-wind-camp-classic-viii/?lang=en
LOCATION:Porto Pollo\, Strada dei Gabbiani\, Palau\, 07020\, Italia
CATEGORIES:Classic
END:VEVENT
BEGIN:VEVENT
DTSTART;VALUE=DATE:20210814
DTEND;VALUE=DATE:20210822
DTSTAMP:20260419T171551
CREATED:20210627T060126Z
LAST-MODIFIED:20210627T060409Z
UID:206413-1628899200-1629590399@thewindcamp.com
SUMMARY:The Wind Camp Classic VII
DESCRIPTION:Info & Bookings
URL:https://thewindcamp.com/event/the-wind-camp-classic-vii/?lang=en
LOCATION:Porto Pollo\, Strada dei Gabbiani\, Palau\, 07020\, Italia
CATEGORIES:Classic
END:VEVENT
BEGIN:VEVENT
DTSTART;VALUE=DATE:20210807
DTEND;VALUE=DATE:20210815
DTSTAMP:20260419T171551
CREATED:20210627T060034Z
LAST-MODIFIED:20210627T060414Z
UID:206411-1628294400-1628985599@thewindcamp.com
SUMMARY:The Wind Camp Classic VI
DESCRIPTION:Info & Bookings
URL:https://thewindcamp.com/event/the-wind-camp-classic-vi/?lang=en
LOCATION:Porto Pollo\, Strada dei Gabbiani\, Palau\, 07020\, Italia
CATEGORIES:Classic
END:VEVENT
BEGIN:VEVENT
DTSTART;VALUE=DATE:20210731
DTEND;VALUE=DATE:20210808
DTSTAMP:20260419T171551
CREATED:20210627T055947Z
LAST-MODIFIED:20210627T055950Z
UID:206405-1627689600-1628380799@thewindcamp.com
SUMMARY:The Wind Camp Classic V
DESCRIPTION:Info & Bookings
URL:https://thewindcamp.com/event/the-wind-camp-classic-v/?lang=en
LOCATION:Porto Pollo\, Strada dei Gabbiani\, Palau\, 07020\, Italia
CATEGORIES:Classic
END:VEVENT
BEGIN:VEVENT
DTSTART;VALUE=DATE:20210724
DTEND;VALUE=DATE:20210801
DTSTAMP:20260419T171551
CREATED:20210627T055911Z
LAST-MODIFIED:20210627T055914Z
UID:206401-1627084800-1627775999@thewindcamp.com
SUMMARY:The Wind Camp Classic IV
DESCRIPTION:Info & Bookings
URL:https://thewindcamp.com/event/the-wind-camp-classic-iv/?lang=en
LOCATION:Porto Pollo\, Strada dei Gabbiani\, Palau\, 07020\, Italia
CATEGORIES:Classic
END:VEVENT
BEGIN:VEVENT
DTSTART;VALUE=DATE:20210717
DTEND;VALUE=DATE:20210725
DTSTAMP:20260419T171551
CREATED:20210615T134227Z
LAST-MODIFIED:20210616T152141Z
UID:206212-1626480000-1627171199@thewindcamp.com
SUMMARY:The Wind Camp Classic III
DESCRIPTION:Info & Bookings
URL:https://thewindcamp.com/event/the-wind-camp-classic-iii/?lang=en
LOCATION:Porto Pollo\, Strada dei Gabbiani\, Palau\, 07020\, Italia
CATEGORIES:Classic
END:VEVENT
BEGIN:VEVENT
DTSTART;VALUE=DATE:20210710
DTEND;VALUE=DATE:20210718
DTSTAMP:20260419T171551
CREATED:20210615T134157Z
LAST-MODIFIED:20210616T154952Z
UID:206210-1625875200-1626566399@thewindcamp.com
SUMMARY:The Wind Camp Classic II
DESCRIPTION:Info & Bookings
URL:https://thewindcamp.com/event/the-wind-camp-classic-ii/?lang=en
LOCATION:Porto Pollo\, Strada dei Gabbiani\, Palau\, 07020\, Italia
CATEGORIES:Classic
END:VEVENT
BEGIN:VEVENT
DTSTART;VALUE=DATE:20210703
DTEND;VALUE=DATE:20210711
DTSTAMP:20260419T171551
CREATED:20210615T134023Z
LAST-MODIFIED:20210616T155042Z
UID:206208-1625270400-1625961599@thewindcamp.com
SUMMARY:The Wind Camp Classic I
DESCRIPTION:Info & Bookings
URL:https://thewindcamp.com/event/the-wind-camp-classic-i/?lang=en
LOCATION:Porto Pollo\, Strada dei Gabbiani\, Palau\, 07020\, Italia
CATEGORIES:Classic
END:VEVENT
END:VCALENDAR